BEGIN:VCALENDAR
VERSION:2.0
PRODID:-//Tukios.com/
BEGIN:VEVENT
UID:d69e7efe-1e4b-4779-bd76-74dff0dc2281@obituaries.carpenterporter.com
DTSTAMP:20260425T201439Z
DTSTART:20260427T180000Z
DTEND:20260427T184500Z
SUMMARY:Visitation
DESCRIPTION:
URL:https://obituaries.carpenterporter.com/obituaries/geraldine-roome
LOCATION:Westview Baptist Church 3385 Fairview Dr  Gastonia NC 28052
GEO:35.2901951;-81.2330018
END:VEVENT
END:VCALENDAR