BEGIN:VCALENDAR
VERSION:2.0
PRODID:-//Tukios.com/
BEGIN:VEVENT
UID:a923c53f-98e8-433d-ba51-0d5f820ad775@obituaries.carpenterporter.com
DTSTAMP:20260425T201530Z
DTSTART:20260427T190000Z
DTEND:20260427T200000Z
SUMMARY:Funeral Service
DESCRIPTION:
URL:https://obituaries.carpenterporter.com/obituaries/geraldine-roome
LOCATION: 3385 Fairview Dr  Gastonia NC 28052
GEO:35.2901951;-81.2330018
END:VEVENT
END:VCALENDAR