BEGIN:VCALENDAR
VERSION:2.0
PRODID:-//Tukios.com/
BEGIN:VEVENT
UID:d72a21ab-8ca3-4e68-bab3-7c38ba7d5344@obituaries.carpenterporter.com
DTSTAMP:20260425T001251Z
DTSTART:20260426T180000Z
DTEND:20260426T184500Z
SUMMARY:Visitation
DESCRIPTION:
URL:https://obituaries.carpenterporter.com/obituaries/norma-jean-smith
LOCATION: 1100 E Main St  Cherryville NC 28021
GEO:35.3835678;-81.3635297
END:VEVENT
END:VCALENDAR