BEGIN:VCALENDAR
VERSION:2.0
PRODID:-//Tukios.com/
BEGIN:VEVENT
UID:2514f3c4-b453-40ca-a165-4dec6169ac49@obituaries.carpenterporter.com
DTSTAMP:20260425T001143Z
DTSTART:20260426T190000Z
DTEND:20260426T200000Z
SUMMARY:Funeral Service
DESCRIPTION:
URL:https://obituaries.carpenterporter.com/obituaries/norma-jean-smith
LOCATION: 1100 E Main St  Cherryville NC 28021
GEO:35.3835678;-81.3635297
END:VEVENT
END:VCALENDAR