BEGIN:VCALENDAR
VERSION:2.0
PRODID:-//Tukios.com/
BEGIN:VEVENT
UID:2d2f314b-b0bd-40a3-824d-15994cb794bc@obituaries.carpenterporter.com
DTSTAMP:20260425T001155Z
DTSTART:20260426
SUMMARY:Burial
DESCRIPTION:
URL:https://obituaries.carpenterporter.com/obituaries/norma-jean-smith
LOCATION: 300 E Church St  Cherryville NC 28021
GEO:35.3828358;-81.3773237
END:VEVENT
END:VCALENDAR